BEGIN:VCALENDAR
PRODID:-//Det Danske Spejderkorps//NONSGML Gruppeweb//EN
VERSION:2.0
CALSCALE:GREGORIAN
X-PUBLISHED-TTL:PT1H
X-WR-CALNAME:Rold Skov Division
METHOD:PUBLISH
BEGIN:VEVENT
UID:gruppeweb.dk:6600:event:134
DTSTAMP:20260421T083203Z
LAST-MODIFIED:20260214T084431Z
SUMMARY:Jubi-lejr med Asterix
DESCRIPTION:*Tilmelding sker per gruppe (altså ikke per spejder). *\nProg
 ram og form \n\nVi gerne have en lejr\, hvor grupperne og spejderne har t
 id til at være på  \nlejr\, hygge sig med hinanden i grupperne eller på
  tværs i Divisionen\,  \nhvorfor programmet ikke er fyldt ud. I vil derfo
 r opleve en lejr\, hvor I  \nogså har tid til at være sammen med jeres s
 pejdere. \n\n \n\nVi sover alle i telt på pladsen foran Kølhøjhus. \
 n\n \n\nAktiviteter \nVi planlægger aktiviteter for trop og seniorer om
  fredag\, men ikke for andre  \ngrene. Aktiviteterne lørdag er grenopdel
 te: familjespejder\, mikro/mini\,  \njunior\, trop og senior. \n\nVi vil 
 også gerne opfordre forældre\, seniorer og ledere at deltage i  \nleder
 hygge fredag og lørdag aften. \n\n \n\nAnkomst og afgang \nGrupperne k
 an vælge at ankomme fredag aften eller lørdag morgen. Ved  \nankomst lø
 rdag morgen har I meget begrænset tid til at etablere jeres  \nlejr. \n\
 nFamiliespejdere kan vælge at deltage i hele lejren eller kun i programme
 t om  \nlørdagen. \n\nLejren slutter søndag kl. 12 efter vi har spist k
 agemand. \n\nPris og betaling \nPrisen er 150 kr. deltager (spejdere\, l
 edere og forældre) som er fordelt  \nsåledes: \n\n * 80 kr. er lejrplad
 sleje (tilskudsberettiget og Kølhøjhus normale pris\n   for lejrplads) 
 \n   \n\n * 70 kr. dækker aktiviteter og helstegt gris (lørdag aften) sa
 mt et mærke\n   til uniformen \n   \n\nFamiliespejdere kan vælge kun at
  deltage lørdag dag og prisen er 70 kr. per  \nspejder. \n\nDivisionens 
 kasserer sender en udspecificeret faktura umiddelbart efter  \nlejren til 
 gruppernes kasserer. \n\n
URL:https://www.roldskovdivision.dk/begivenhed/jubi-lejr-med-asterix
DTSTART:20250509T140000Z
DTEND:20250511T110000Z
LOCATION:Rold Skov Division\, Bønfeltvej 25\, Astrup\, 9510 Arden
END:VEVENT
BEGIN:VEVENT
UID:gruppeweb.dk:6600:event:135
DTSTAMP:20260421T083203Z
LAST-MODIFIED:20260214T084430Z
SUMMARY:St. Økssø sejlads
DESCRIPTION:Denne tur er en enestående chance for at sejle på Store Økss
 ø. \n\nStore Økssø Sejlads er et traditionsrigt arrangement\, som er b
 levet afholdt  \ni over 40 år. Rold Skov Division har som de eneste hvert
  år lov at sejle  \npå Store Økssø. Sejladsen foregår i hjemmebyggede
  både af presenninger\,  \ngrene og granris. Trops- og seniorspejdere kan
  deltage. \n\nDer er overnatning på på Jamborettepladsen for tropsspejd
 erne\, og I står  \nselv for forplejningen. \n\nDer vil være erfarne sp
 ejdere til stede til hjælpe med bådbygningen og  \nalle regler vedr. sik
 kerhed på vand bliver selvfølgelig overholdt. Alle  \ndeltagere skal kun
 ne svømme 200 meter i redningsvest. \n\nLørdag \n11.00 Ankomst Jambore
 ttepladsen \n12.00 Intro til bådbygning starter for nye deltagere. \n13
 :00 Bådbygning starter. \n16:30 Bådbygning slutter. \n\nDer overnattes
  på Jamborettepladsen. \n\nSøndag \n10:30 Sejlads starter efter fastla
 gt rute over søen \n12:30 Præmieoverrækkelse \n13:00 Tak for i år. 
 \n\n \n\nSidste tilmelding via medlemsservice 16. august 2025 og arrange
 ment er  \ngratis (I står selv for forplejning).\n\n \n\nP.S.: Husk at I
  selv skal medbringe presenninger og snor til byggeriet af  \nbådene til 
 St. Økssøsejlads :)\n\n\nKontakt før eller under arrangementet: \n\nNi
 els Agerholm (niels.agerholm@gmail.com [1]/6178 0455) eller Casper Vissing
   \n(caspervissing@gmail.com/60506561 [2]) \n\n \n\n\n[1] mailto:niels.a
 gerholm@gmail.com\n[2] mailto:caspervissing@gmail.com/60506561\n
URL:https://www.roldskovdivision.dk/begivenhed/st-oekssoe-sejlads
DTSTART:20250823T090000Z
DTEND:20250824T110000Z
LOCATION:St. Økssø\, Møldrupvej 34\, 9530 Skørping
END:VEVENT
BEGIN:VEVENT
UID:gruppeweb.dk:6600:event:139
DTSTAMP:20260421T083203Z
LAST-MODIFIED:20260214T084424Z
SUMMARY:Grenmøde med SL26 info
DESCRIPTION:Vi får besøg af Emilie Mignon\, som er kvarterchef på SL26\,
  som kommer og  \nfortæller en masse om SL26 og svarer på de spørgsmål
  der måtte være.\n\n
URL:https://www.roldskovdivision.dk/begivenhed/grenmoede-med-sl26-info
DTSTART:20250915T170000Z
DTEND:20250915T193000Z
LOCATION:Rold Skov Division\, Bønfeltvej 25\, Astrup\, 9510 Arden
END:VEVENT
BEGIN:VEVENT
UID:gruppeweb.dk:6600:event:105
DTSTAMP:20260421T083203Z
LAST-MODIFIED:20260214T084521Z
SUMMARY:Køllebandeweekend
DESCRIPTION:Den 26. – 28. september\ner der Køllebande-weekend\, hvor al
 le spejdere i Rold Skov Division er  \nvelkomne\ntil at benytte Kølhøjhu
 s helt gratis\, fra fredag eftermiddag til senest  \nsøndag eftermiddag.\
 n\n\nDet er en fantastisk mulighed for enten at tage fat i\nhinanden og ta
 ge en tur sammen\, eller en tur med jeres egen gruppe.\n\n\nHvis I griber 
 muligheden\, så skriv en mail til mig\, med hvornår I kommer\,  \nhvor\n
 mange I kommer\,\nhvor I vil sove og hvornår I har tænkt jer at tage afs
 ted\nigen.\n\n\nSidste tilmelding\ner 22. september.\n\n\nSkriv til: Marcu
 s@saul-hjorth.dk\n\n\nSes vi? 😊\n\n\nSpejderhilsen\n\n\n\nRold Skov Div
 ision\n\n\n
URL:https://www.roldskovdivision.dk/begivenhed/koellebandeweekend-6
DTSTART:20250926T150000Z
DTEND:20250928T120000Z
LOCATION:Rold Skov Division\, Bønfeltvej 25\, Astrup\, 9510 Arden
END:VEVENT
BEGIN:VEVENT
UID:gruppeweb.dk:6600:event:140
DTSTAMP:20260421T083203Z
LAST-MODIFIED:20250830T131129Z
SUMMARY:Seniortræf i Rold Skov Division
DESCRIPTION:\n
URL:https://www.roldskovdivision.dk/begivenhed/seniortraef-i-rold-skov-divi
 sion
DTSTART:20250926T160000Z
DTEND:20250928T100000Z
LOCATION:Kølhøjhus\, Bønfeltvej 25\, 9510 Arden
END:VEVENT
BEGIN:VEVENT
UID:gruppeweb.dk:6600:event:136
DTSTAMP:20260421T083203Z
LAST-MODIFIED:20250926T110307Z
SUMMARY:Fælles Vækstaften for Rold Skov og Randellsborg Division
DESCRIPTION:Kære ledere og bestyrelse i Rold Skov og Randellsborg division
 er\n\nSpejderlivet er noget helt særligt.\nDet er fællesskab\, eventyr\,
  udvikling og stærke værdier. Men for at sikre\,  \nat\nendnu flere bør
 n og unge får glæde af spejderbevægelsen\, skal vi være  \nambitiøse\
 n– vi skal gøre fællesskabet større og have flere med\, og vi skal s
 ørge  \nfor at dem vi har\, har\nlyst til at fortsat være med – ikke m
 indst i de mindre spejdergrupper!\n\nHvordan skaber vi en stærkere\nspejd
 ergruppe? Hvordan sikrer vi\, at nye ledere bliver en del af  \nfællesska
 bet?\nHvordan fastholder vi spejdergejsten år efter år?\n\nDet\ner spør
 gsmål som disse\, vi vil dykke ned i til vores Vækstaften...\nLæs mere
  i vedhæftede fil.\n\nDer er aftensmad på mødet\, så husk at tilmelde 
 jer.  \n\n\n
URL:https://www.roldskovdivision.dk/begivenhed/faelles-vaekstaften-rold-sko
 v-og-randellsborg-division
DTSTART:20250930T160000Z
DTEND:20250930T190000Z
LOCATION:Rold Skov Division\, Bønfeltvej 25\, Astrup\, 9510 Arden
END:VEVENT
BEGIN:VEVENT
UID:gruppeweb.dk:6600:event:145
DTSTAMP:20260421T083203Z
LAST-MODIFIED:20260214T084410Z
SUMMARY:Julegåtur
DESCRIPTION:Den 30. november kl. 1000er\ndet atter tid til spejdernes årli
 ge julegåtur.\n\n\n\nVi mødes ved Vedsted Skovhus lige bag\nRøverknolde
 n i Rebild.\n*Husk at parkere ude på P-pladsen *og gå ind til Vedsted Sk
 ovhus.\n\n\n\n \n\nJulegåturen er en familiebegivenhed\,\nså tag gerne 
 søskende\, forældre\, bedsteforældre og naboerne med. Vi går  \n5 km\n
 igennem skoven og når vi er tilbage ved Vedstedskovhus\, får vi en kop v
 arm\nkakao/gløgg/kaffe. Husk at medbringe en kop pr. person.\n\n\n\nPrise
 n er 40 kr. pr. spejder.\n\n\n\n\nSidste frist for tilmelding er søndag d
 en 23. november\, gruppevis på mail  \ntil Anne på ajochumsen@city.dk\nV
 i glæder os til at se jer i Rold Skov.\n\n
URL:https://www.roldskovdivision.dk/begivenhed/julegaatur-1
DTSTART:20251130T090000Z
DTEND:20251130T120000Z
LOCATION:Røverknolden\, Rebild Kirkevej\, 9520 Skørping
END:VEVENT
BEGIN:VEVENT
UID:gruppeweb.dk:6600:event:144
DTSTAMP:20260421T083203Z
LAST-MODIFIED:20260115T191334Z
SUMMARY:Idemøde med gruppestyrelser og divisionsledelsen i Rold Skov Divis
 ion.
DESCRIPTION:Kære bestyrelsesformænd og -kvinder samt gruppeledere i Rold 
 Skov Division.\nVi vil gerne have\, at det\, vi laver i Rold Skov Division
 \, kommer jer i  \ngrupperne mest muligt til gavn.Derfor vil vi gerne invi
 tere jer til et  \nidemøde med divisionsledelsen om aktiviteter\, fremtid
 en for Divisionen og  \nKølhøjhus.\nOBS: NY DATO: 21/1 2026\nDagsorden:\
 n * Velkomst\n * Bordet rundt - kort intro af deltagere\n * Intro til Rold
  Skov Division - hvad er vores opgave og rolle\n * Bestyrelses rolle i gru
 ppen \n * Udviklingsplan\n * Samarbejde mellem divisionens grupper \n * 
 Hvordan skaber RSD værdi for grupperne?\n * Evt.\n\nVi er selvfølgelig 
 åbne for andre emner på mødet :)\nMødet finder sted på Kølhøjhus v
 ed Astrup d. 21. januar 2026 kl. 19-21\,  \nog vi håber at se mange af je
 r.(Inviter gerne resten af jeres bestyrelser  \nmed :)\nMed spejderhilsenD
 ivisionsledelsen\n
URL:https://www.roldskovdivision.dk/begivenhed/idemoede-med-gruppestyrelser
 -og-divisionsledelsen-i-rold-skov-division
DTSTART:20260121T180000Z
DTEND:20260121T200000Z
LOCATION:Rold Skov Division\, Bønfeltvej 25\, Astrup\, 9510 Arden
END:VEVENT
BEGIN:VEVENT
UID:gruppeweb.dk:6600:event:146
DTSTAMP:20260421T083203Z
LAST-MODIFIED:20260214T084409Z
SUMMARY:Trawaxa 2026 - Det Lugter lidt af ost!
DESCRIPTION:Invitation til Trawaxa 2026\n\nHvad lugter det af?\nEr det bål
 ? Vådt tøj? En gammel uniform?\nNej!\nDet lugter lidt af OST!\nVil du v
 ære med når ”Det lugter lidt af ost” så er TRAWAXA 2026 lige  \nnog
 et for dig og din\npatrulje!\nNatten dufter svagt af cheddar og eventyr\, 
 og vinden hvisker om noget skjult  \ni mørket. Vi\nbruger natten på at u
 ndersøge hvad det er og det kræver sin næse at løse  \nopgaverne.\nSam
 l de mest modige\, klogeste (og måske lidt sultne) spejdere i netop din  
 \npatrulje og find\nud af hvad det er! -Det er feta’ma ikke svært at fo
 rstå.\nTid: Fredag d. 30. januar 2026 kl. 19.00 til lørdag d. 31. januar
  kl. 9.00\nIndtjekning: mellem kl. 18.30 og 19.00 – Løbet stater kl. 19
 :00\nSted: Spejdergården\, Løgstørvej 57\, 9600 Aars\nPris: 125 kr. pr.
  Deltager. Tilmelding patruljevis via:\n\nSøvn: Selvfølgelig! -Der er mu
 lighed for overnatning på Spejdergården\nEnergi: Der serveres lækker na
 tmad undervejs!\nTilmelding: Senest d. 9. januar 2026\n\nHusk:\nTag varmt 
 tøj på\, pandelampen i panden\, masser af godt humør og fyld  \nrygsæk
 ken med alt du\nellers for brug for samt det du ikke ved du får brug for.
 \n…..måske en ost?\nVi glæder os til at se jer til en nat fyldt med op
 gaver og  \nspejderfællesskab – og vi lover\, det\nbrie’er ikke noget
  du vil gå glip af!\n\nEfter tilmelding får I tilsendt et deltagerbrev m
 ed en foropgave og mere  \ninformation.\nSpejderhilsen\n\nDDS Aars Gruppe\
 n\n
URL:https://www.roldskovdivision.dk/begivenhed/trawaxa-2026-det-lugter-lidt
 -af-ost
DTSTART:20260130T180000Z
DTEND:20260131T080000Z
LOCATION:Aars Gruppe\, Løgstørvej 57\, 9600 Aars
END:VEVENT
BEGIN:VEVENT
UID:gruppeweb.dk:6600:event:147
DTSTAMP:20260421T083203Z
LAST-MODIFIED:20260218T141537Z
SUMMARY:Parchaka 2026
DESCRIPTION:\n\n\nPsst … … PARCHAKA 2026\n\n\n\nSpejder-AI’en /Nature
 ns Vogter/ er stærk – men fanget i fortiden.\nDen elsker knob og rafteb
 yggeri\, men sender brevdue som besked!\nDin mission: Hack dens spejder-sj
 æl og bring den ind i 2026.\nEr du klar til årets mest kritiske spejdero
 pgave? 🔥\n\n\n\n INFO : \n\n\n\n➔ Fra: 6. marts 2026 kl 18:30. Nær
  Kølhøjhus\, Bønfeltvej 25\, 9510  \nArden… Info kommer senere.\n\n\n
 \n➔ Til: 8. marts 2026 kl 13:00 på Kølhøjhus\, Bønfeltvej 25\, 9510 
 Arden\n\n\n\n➔ Prisen: 450 kr.\n\n\n\n➔ Tilmeld dig hos din tropsleder
 \n- For vi har brug for netop dig!\n\n\n\nI tilfælde af spørgsmål konta
 kt Henrik\npå: henrik114@live.dk eller 24864652\n\n\n\n\n\n
URL:https://www.roldskovdivision.dk/begivenhed/parchaka-2026
DTSTART:20260306T173000Z
DTEND:20260308T120000Z
LOCATION:Kølhøjhus\, Bønfeltvej 25\, 9510 Arden
END:VEVENT
BEGIN:VEVENT
UID:gruppeweb.dk:6600:event:148
DTSTAMP:20260421T083203Z
LAST-MODIFIED:20260309T093339Z
SUMMARY:Grenmøde
DESCRIPTION:*Grenmøde på Kølhøjhus. **Kom og vær med til at skabe beg
 ejstring i  \nbåde dit eget og andres spejderliv* /Lederaften – DDS Ro
 ld Skov Division/\n\nHusk egen kop :)\n\n*Program: *\n\n*19:00 Rold Skov 
 Division byder velkommen*\n\n---------------------------------------------
 ---------------------------------\n---------------------------------------
 ---------------------------------------\n*19:15 Velkomst og oplæg* /(20 
 min)/ Hvad skal der til for at trives som  \nfrivillig spejderleder – o
 g hvorfor betyder din trivsel mere end du måske  \ntror? Vi tager afsæt 
 i en enkel trivselsmodel og ser på\, hvad der  \nkendetegner foreninger\,
  hvor lederne bliver og blomstrer. Oplægget sætter  \nrammen for resten 
 af aftenen.\n\n-----------------------------------------------------------
 -------------------\n*19:35 Fælles snak i plenum* /(20 min)/ Vi zoomer 
 ind på lederrollen og  \nden opgavemæssige dimension af trivsel: Hvad gi
 ver mening? Hvad dræner? Og  \nhvad findes der allerede af hjælp og stø
 tte i DDS-regi\, som vi måske ikke  \nkender godt nok?\n\n---------------
 ---------------------------------------------------------------\n*19:55 Ka
 ffe og uformel snak* /(15 min)/ Et pusterum – og en chance for  \nat u
 dveksle et par ord med ledere fra de andre grupper\, inden vi går i gang 
  \nmed gruppearbejdet.\n\n------------------------------------------------
 ------------------------------\n*20:10 Arbejde i grupper* /(35 min)/ I g
 år sammen på tværs af grupper og  \nbrainstormer på:\n\n * Hvad vil du
  gerne have hjælp til i din lederrolle?\n * Er der opgaver\, I med fordel
  kan løse sammen på tværs af grupperne?\n * Hvad kunne divisionen gøre
  mere af – eller bedre?\n * Hvad burde DDS som organisation tage ansvar 
 for?\n\n------------------------------------------------------------------
 ------------\n*20:45 Fælles afslutning* /(30 min)/ Grupperne præsenter
 er deres  \nvigtigste pointer. Vi samler trådene og aftaler\, hvad der sk
 er videre –  \nhvem tager hvad med hjem\, og hvad går videre til divisi
 onen eller DDS?\n\n-------------------------------------------------------
 -----------------------\n \n\nVel mødt\n\nMed venlig hilsen\n\nRold Skov
  Division\n\n
URL:https://www.roldskovdivision.dk/begivenhed/grenmoede-8
DTSTART:20260317T180000Z
DTEND:20260317T203000Z
LOCATION:Rold Skov Division\, Bønfeltvej 25\, Astrup\, 9510 Arden
END:VEVENT
BEGIN:VEVENT
UID:gruppeweb.dk:6600:event:141
DTSTAMP:20260421T083203Z
LAST-MODIFIED:20260214T084420Z
SUMMARY:Mikro-/minidag
DESCRIPTION:\n
URL:https://www.roldskovdivision.dk/begivenhed/mikro-minidag-6
DTSTART:20260322T090000Z
DTEND:20260322T130000Z
LOCATION:Et sted i Rold Skov Division
END:VEVENT
BEGIN:VEVENT
UID:gruppeweb.dk:6600:event:151
DTSTAMP:20260421T083203Z
LAST-MODIFIED:20260214T084356Z
SUMMARY:Divisionsrådsmøde
DESCRIPTION:\n
URL:https://www.roldskovdivision.dk/begivenhed/divisionsraadsmoede-4
DTSTART:20260414T170000Z
DTEND:20260414T193000Z
LOCATION:Kølhøjhus
END:VEVENT
BEGIN:VEVENT
UID:gruppeweb.dk:6600:event:149
DTSTAMP:20260421T083203Z
LAST-MODIFIED:20260214T084402Z
SUMMARY:Køllebande Weekend
DESCRIPTION:Køllebande weekend! Kølhøjhus er åben for alle der kunne t
 ænkte sig at  \nbruge en weekend i vores dejlige hytte - ganske gratis.\n
 \nI skal selv have forplejning med.\n\n
URL:https://www.roldskovdivision.dk/begivenhed/koellebande-weekend-0
DTSTART:20260501T140000Z
DTEND:20260503T100000Z
LOCATION:Rold Skov Division\, Bønfeltvej 25\, Astrup\, 9510 Arden
END:VEVENT
BEGIN:VEVENT
UID:gruppeweb.dk:6600:event:150
DTSTAMP:20260421T083203Z
LAST-MODIFIED:20260309T214029Z
SUMMARY:Senior Weekend
DESCRIPTION:Ved spørgsmål eller anden henvendelse skriv til:\n\nMarcus Hj
 orth: 31375474\, eller pr mail: Marcus@saul-hjorth.dk\n\n
URL:https://www.roldskovdivision.dk/begivenhed/senior-weekend
DTSTART:20260529T150000Z
DTEND:20260531T100000Z
LOCATION:Rold Skov Division\, Bønfeltvej 25\, Astrup\, 9510 Arden
END:VEVENT
BEGIN:VEVENT
UID:gruppeweb.dk:6600:event:143
DTSTAMP:20260421T083203Z
LAST-MODIFIED:20260214T084417Z
SUMMARY:Mikro-/minidag
DESCRIPTION:\n
URL:https://www.roldskovdivision.dk/begivenhed/mikro-minidag-8
DTSTART:20260920T080000Z
DTEND:20260920T120000Z
LOCATION:Rold Skov Division\, Bønfeltvej 25\, Astrup\, 9510 Arden
END:VEVENT
BEGIN:VEVENT
UID:gruppeweb.dk:6600:event:142
DTSTAMP:20260421T083203Z
LAST-MODIFIED:20260214T084416Z
SUMMARY:Mikro-/minidag
DESCRIPTION:\n
URL:https://www.roldskovdivision.dk/begivenhed/mikro-minidag-7
DTSTART:20270314T090000Z
DTEND:20270314T130000Z
LOCATION:Rold Skov Division\, Bønfeltvej 25\, Astrup\, 9510 Arden
END:VEVENT
END:VCALENDAR
